BEGIN:VCALENDAR
METHOD:PUBLISH
VERSION:2.0
PRODID:-//WoltLab GmbH//WoltLab Suite Calendar 5.4//EN
CALSCALE:GREGORIAN
X-WR-CALNAME;VALUE=TEXT:Kaffeetreff der AG Frauen
BEGIN:VEVENT
TRANSP:OPAQUE
UID:event-222@spd-badlauterberg.de
URL:https://spd-badlauterberg.de/kalender/termin/224-kaffeetreff-der-ag-fra
 uen/
DTSTART:20250103T140000Z
DTSTAMP:20250103T140000Z
CREATED:20250103T140000Z
SUMMARY:Kaffeetreff der AG Frauen
DESCRIPTION:Die AG Frauen trifft sich in der Regel jeden ersten Freitag im 
 Monat zum Kaffee und diskutiert die aktuellen politischen Themen\, aber auc
 h über Gott und die Welt.
LOCATION:Wiesenbek 5\, 37431 Bad Lauterberg im Harz\, Deutschland
GEO:51.6243553;10.4680147
DTEND:20250103T160000Z
RRULE:FREQ=MONTHLY;INTERVAL=1;BYDAY=1FR;WKST=MO
CATEGORIES:AG Frauen
END:VEVENT
END:VCALENDAR
