BEGIN:VCALENDAR
METHOD:PUBLISH
VERSION:2.0
PRODID:-//WoltLab GmbH//WoltLab Suite Calendar 5.4//EN
CALSCALE:GREGORIAN
X-WR-CALNAME;VALUE=TEXT:Reformationstag in Deutschland
BEGIN:VEVENT
TRANSP:TRANSPARENT
UID:event-49@spd-badlauterberg.de
URL:https://spd-badlauterberg.de/kalender/termin/51-reformationstag-in-deut
 schland/
DTSTART;VALUE=DATE:20221031
DTSTAMP:20221031T000000Z
CREATED:20221031T000000Z
SUMMARY:Reformationstag in Deutschland
DESCRIPTION:Reformationstag in Deutschland
DTEND;VALUE=DATE:20221101
END:VEVENT
END:VCALENDAR
