BEGIN:VCALENDAR
METHOD:PUBLISH
VERSION:2.0
PRODID:-//WoltLab GmbH//WoltLab Suite Calendar 5.4//EN
CALSCALE:GREGORIAN
X-WR-CALNAME;VALUE=TEXT:Vorstandsitzung
BEGIN:VEVENT
TRANSP:OPAQUE
UID:event-69@spd-badlauterberg.de
URL:https://spd-badlauterberg.de/kalender/termin/71-vorstandsitzung/
DTSTART:20210721T160000Z
DTSTAMP:20210721T160000Z
CREATED:20210721T160000Z
SUMMARY:Vorstandsitzung
DESCRIPTION:Tagesordnung:\n1. Begrüßung und Feststellung der Beschlussfähig
 keit\n2. Anträge zur Tagesordnung\n3. Besprechung der Listen Ortsrat Osterh
 aben und Stadtrat\n4. Abstimmung der LIsten für den Vorschlag zur Mitgliede
 rversammlung\n5. Verschiedenes
LOCATION:Goldene Aue Scharzfelderstr. Bad Lauterberg
DTEND:20210721T163000Z
END:VEVENT
END:VCALENDAR
